BEGIN:VCALENDAR
VERSION:2.0
PRODID:-//Seglervereinigung Hüde - ECPv6.15.20//NONSGML v1.0//EN
CALSCALE:GREGORIAN
METHOD:PUBLISH
X-ORIGINAL-URL:https://svh-duemmer.de
X-WR-CALDESC:Veranstaltungen für Seglervereinigung Hüde
REFRESH-INTERVAL;VALUE=DURATION:PT1H
X-Robots-Tag:noindex
X-PUBLISHED-TTL:PT1H
BEGIN:VTIMEZONE
TZID:Europe/Berlin
BEGIN:DAYLIGHT
TZOFFSETFROM:+0100
TZOFFSETTO:+0200
TZNAME:CEST
DTSTART:20250330T010000
END:DAYLIGHT
BEGIN:STANDARD
TZOFFSETFROM:+0200
TZOFFSETTO:+0100
TZNAME:CET
DTSTART:20251026T010000
END:STANDARD
BEGIN:DAYLIGHT
TZOFFSETFROM:+0100
TZOFFSETTO:+0200
TZNAME:CEST
DTSTART:20260329T010000
END:DAYLIGHT
BEGIN:STANDARD
TZOFFSETFROM:+0200
TZOFFSETTO:+0100
TZNAME:CET
DTSTART:20261025T010000
END:STANDARD
BEGIN:DAYLIGHT
TZOFFSETFROM:+0100
TZOFFSETTO:+0200
TZNAME:CEST
DTSTART:20270328T010000
END:DAYLIGHT
BEGIN:STANDARD
TZOFFSETFROM:+0200
TZOFFSETTO:+0100
TZNAME:CET
DTSTART:20271031T010000
END:STANDARD
END:VTIMEZONE
BEGIN:VEVENT
DTSTART;VALUE=DATE:20260502
DTEND;VALUE=DATE:20260504
DTSTAMP:20260425T034422
CREATED:20260123T151222Z
LAST-MODIFIED:20260123T151222Z
UID:20540-1777680000-1777852799@svh-duemmer.de
SUMMARY:Kupferne Rohrdommel
DESCRIPTION:
URL:https://svh-duemmer.de/kalender/kupferne-rohrdommel-8/
LOCATION:Seglervereinigung Hüde e.V.\, Regattastraße 19\, Hüde\, 49448
CATEGORIES:Regatta
END:VEVENT
BEGIN:VEVENT
DTSTART;VALUE=DATE:20260504
DTEND;VALUE=DATE:20260509
DTSTAMP:20260425T034422
CREATED:20260123T151342Z
LAST-MODIFIED:20260123T151342Z
UID:20542-1777852800-1778284799@svh-duemmer.de
SUMMARY:IDM O-Jolle
DESCRIPTION:
URL:https://svh-duemmer.de/kalender/idm-o-jolle/
LOCATION:Seglervereinigung Hüde e.V.\, Regattastraße 19\, Hüde\, 49448
CATEGORIES:Regatta
END:VEVENT
BEGIN:VEVENT
DTSTART;VALUE=DATE:20260523
DTEND;VALUE=DATE:20260526
DTSTAMP:20260425T034422
CREATED:20260123T151435Z
LAST-MODIFIED:20260123T151435Z
UID:20544-1779494400-1779753599@svh-duemmer.de
SUMMARY:Goldener Pfingstochse
DESCRIPTION:
URL:https://svh-duemmer.de/kalender/goldener-pfingstochse-2/
LOCATION:Seglervereinigung Hüde e.V.\, Regattastraße 19\, Hüde\, 49448
CATEGORIES:Regatta
END:VEVENT
BEGIN:VEVENT
DTSTART;VALUE=DATE:20260627
DTEND;VALUE=DATE:20260629
DTSTAMP:20260425T034422
CREATED:20260123T151724Z
LAST-MODIFIED:20260123T151724Z
UID:20547-1782518400-1782691199@svh-duemmer.de
SUMMARY:16. Deutscher Team-Race Cup
DESCRIPTION:
URL:https://svh-duemmer.de/kalender/16-deutscher-team-race-cup/
LOCATION:Seglervereinigung Hüde e.V.\, Regattastraße 19\, Hüde\, 49448
CATEGORIES:Regatta
END:VEVENT
BEGIN:VEVENT
DTSTART;VALUE=DATE:20260822
DTEND;VALUE=DATE:20260824
DTSTAMP:20260425T034422
CREATED:20260123T151912Z
LAST-MODIFIED:20260123T151912Z
UID:20551-1787356800-1787529599@svh-duemmer.de
SUMMARY:Haubentaucher
DESCRIPTION:
URL:https://svh-duemmer.de/kalender/haubentaucher-7/
LOCATION:Seglervereinigung Hüde e.V.\, Regattastraße 19\, Hüde\, 49448
CATEGORIES:Regatta
END:VEVENT
BEGIN:VEVENT
DTSTART;VALUE=DATE:20260905
DTEND;VALUE=DATE:20260907
DTSTAMP:20260425T034422
CREATED:20260123T152009Z
LAST-MODIFIED:20260123T152009Z
UID:20553-1788566400-1788739199@svh-duemmer.de
SUMMARY:Glasenuhr
DESCRIPTION:
URL:https://svh-duemmer.de/kalender/glasenuhr-7/
LOCATION:Seglervereinigung Hüde e.V.\, Regattastraße 19\, Hüde\, 49448
CATEGORIES:Regatta
END:VEVENT
END:VCALENDAR