BEGIN:VCALENDAR
VERSION:2.0
PRODID:-//Seglervereinigung Hüde - ECPv6.15.20//NONSGML v1.0//EN
CALSCALE:GREGORIAN
METHOD:PUBLISH
X-ORIGINAL-URL:https://svh-duemmer.de
X-WR-CALDESC:Veranstaltungen für Seglervereinigung Hüde
REFRESH-INTERVAL;VALUE=DURATION:PT1H
X-Robots-Tag:noindex
X-PUBLISHED-TTL:PT1H
BEGIN:VTIMEZONE
TZID:Europe/Berlin
BEGIN:DAYLIGHT
TZOFFSETFROM:+0100
TZOFFSETTO:+0200
TZNAME:CEST
DTSTART:20240331T010000
END:DAYLIGHT
BEGIN:STANDARD
TZOFFSETFROM:+0200
TZOFFSETTO:+0100
TZNAME:CET
DTSTART:20241027T010000
END:STANDARD
BEGIN:DAYLIGHT
TZOFFSETFROM:+0100
TZOFFSETTO:+0200
TZNAME:CEST
DTSTART:20250330T010000
END:DAYLIGHT
BEGIN:STANDARD
TZOFFSETFROM:+0200
TZOFFSETTO:+0100
TZNAME:CET
DTSTART:20251026T010000
END:STANDARD
BEGIN:DAYLIGHT
TZOFFSETFROM:+0100
TZOFFSETTO:+0200
TZNAME:CEST
DTSTART:20260329T010000
END:DAYLIGHT
BEGIN:STANDARD
TZOFFSETFROM:+0200
TZOFFSETTO:+0100
TZNAME:CET
DTSTART:20261025T010000
END:STANDARD
END:VTIMEZONE
BEGIN:VEVENT
DTSTART;VALUE=DATE:20250503
DTEND;VALUE=DATE:20250505
DTSTAMP:20260425T135130
CREATED:20250113T155146Z
LAST-MODIFIED:20250113T155146Z
UID:19887-1746230400-1746403199@svh-duemmer.de
SUMMARY:Kupferne Rohrdommel
DESCRIPTION:
URL:https://svh-duemmer.de/kalender/kupferne-rohrdommel-7/
LOCATION:Seglervereinigung Hüde e.V.\, Regattastraße 19\, Hüde\, 49448
CATEGORIES:Regatta
END:VEVENT
BEGIN:VEVENT
DTSTART;VALUE=DATE:20250503
DTEND;VALUE=DATE:20250505
DTSTAMP:20260425T135130
CREATED:20250227T163034Z
LAST-MODIFIED:20250227T163034Z
UID:19961-1746230400-1746403199@svh-duemmer.de
SUMMARY:Training Opti
DESCRIPTION:
URL:https://svh-duemmer.de/kalender/training-opti-27/
LOCATION:Seglervereinigung Hüde e.V.\, Regattastraße 19\, Hüde\, 49448
CATEGORIES:Training Opti
END:VEVENT
BEGIN:VEVENT
DTSTART;VALUE=DATE:20250517
DTEND;VALUE=DATE:20250519
DTSTAMP:20260425T135130
CREATED:20250113T160415Z
LAST-MODIFIED:20250113T160446Z
UID:19901-1747440000-1747612799@svh-duemmer.de
SUMMARY:Training Europe
DESCRIPTION:
URL:https://svh-duemmer.de/kalender/training-europe-31/
LOCATION:Seglervereinigung Hüde e.V.\, Regattastraße 19\, Hüde\, 49448
CATEGORIES:Training Europe
ORGANIZER;CN="Europe-Team Niedersachsen":MAILTO:jugendwart@svh-duemmer.de
END:VEVENT
BEGIN:VEVENT
DTSTART;VALUE=DATE:20250517
DTEND;VALUE=DATE:20250519
DTSTAMP:20260425T135130
CREATED:20250227T163129Z
LAST-MODIFIED:20250227T163129Z
UID:19963-1747440000-1747612799@svh-duemmer.de
SUMMARY:Training Opti
DESCRIPTION:
URL:https://svh-duemmer.de/kalender/training-opti-28/
LOCATION:Seglervereinigung Hüde e.V.\, Regattastraße 19\, Hüde\, 49448
CATEGORIES:Training Opti
END:VEVENT
BEGIN:VEVENT
DTSTART;TZID=Europe/Berlin:20250524T090000
DTEND;TZID=Europe/Berlin:20250524T090000
DTSTAMP:20260425T135130
CREATED:20250313T195445Z
LAST-MODIFIED:20250313T195445Z
UID:19991-1748077200-1748077200@svh-duemmer.de
SUMMARY:Gemeinschaftsdienst
DESCRIPTION:
URL:https://svh-duemmer.de/kalender/gemeinschaftsdienst-24/
LOCATION:Seglervereinigung Hüde e.V.\, Regattastraße 19\, Hüde\, 49448
CATEGORIES:Arbeitsdienst
END:VEVENT
END:VCALENDAR