BEGIN:VCALENDAR
VERSION:2.0
PRODID:-//Seglervereinigung Hüde - ECPv6.15.20//NONSGML v1.0//EN
CALSCALE:GREGORIAN
METHOD:PUBLISH
X-WR-CALNAME:Seglervereinigung Hüde
X-ORIGINAL-URL:https://svh-duemmer.de
X-WR-CALDESC:Veranstaltungen für Seglervereinigung Hüde
REFRESH-INTERVAL;VALUE=DURATION:PT1H
X-Robots-Tag:noindex
X-PUBLISHED-TTL:PT1H
BEGIN:VTIMEZONE
TZID:Europe/Berlin
BEGIN:DAYLIGHT
TZOFFSETFROM:+0100
TZOFFSETTO:+0200
TZNAME:CEST
DTSTART:20240331T010000
END:DAYLIGHT
BEGIN:STANDARD
TZOFFSETFROM:+0200
TZOFFSETTO:+0100
TZNAME:CET
DTSTART:20241027T010000
END:STANDARD
BEGIN:DAYLIGHT
TZOFFSETFROM:+0100
TZOFFSETTO:+0200
TZNAME:CEST
DTSTART:20250330T010000
END:DAYLIGHT
BEGIN:STANDARD
TZOFFSETFROM:+0200
TZOFFSETTO:+0100
TZNAME:CET
DTSTART:20251026T010000
END:STANDARD
BEGIN:DAYLIGHT
TZOFFSETFROM:+0100
TZOFFSETTO:+0200
TZNAME:CEST
DTSTART:20260329T010000
END:DAYLIGHT
BEGIN:STANDARD
TZOFFSETFROM:+0200
TZOFFSETTO:+0100
TZNAME:CET
DTSTART:20261025T010000
END:STANDARD
END:VTIMEZONE
BEGIN:VEVENT
DTSTART;VALUE=DATE:20250607
DTEND;VALUE=DATE:20250610
DTSTAMP:20260424T010820
CREATED:20250113T160216Z
LAST-MODIFIED:20250113T160216Z
UID:19898-1749254400-1749513599@svh-duemmer.de
SUMMARY:Goldener Pfingstochse
DESCRIPTION:
URL:https://svh-duemmer.de/kalender/goldener-pfingstochse/
LOCATION:Seglervereinigung Hüde e.V.\, Regattastraße 19\, Hüde\, 49448
CATEGORIES:Regatta
END:VEVENT
BEGIN:VEVENT
DTSTART;VALUE=DATE:20250614
DTEND;VALUE=DATE:20250616
DTSTAMP:20260424T010820
CREATED:20250113T160520Z
LAST-MODIFIED:20250113T160520Z
UID:19902-1749859200-1750031999@svh-duemmer.de
SUMMARY:Training Europe
DESCRIPTION:
URL:https://svh-duemmer.de/kalender/training-europe-32/
LOCATION:Seglervereinigung Hüde e.V.\, Regattastraße 19\, Hüde\, 49448
CATEGORIES:Training Europe
ORGANIZER;CN="Europe-Team Niedersachsen":MAILTO:jugendwart@svh-duemmer.de
END:VEVENT
BEGIN:VEVENT
DTSTART;VALUE=DATE:20250614
DTEND;VALUE=DATE:20250616
DTSTAMP:20260424T010820
CREATED:20250227T163905Z
LAST-MODIFIED:20250227T163905Z
UID:19965-1749859200-1750031999@svh-duemmer.de
SUMMARY:Training Opti
DESCRIPTION:
URL:https://svh-duemmer.de/kalender/training-opti-29/
LOCATION:Seglervereinigung Hüde e.V.\, Regattastraße 19\, Hüde\, 49448
CATEGORIES:Training Opti
END:VEVENT
BEGIN:VEVENT
DTSTART;VALUE=DATE:20250621
DTEND;VALUE=DATE:20250623
DTSTAMP:20260424T010820
CREATED:20250113T155424Z
LAST-MODIFIED:20250113T155424Z
UID:19890-1750464000-1750636799@svh-duemmer.de
SUMMARY:15. Deutscher Team-Race Cup
DESCRIPTION:
URL:https://svh-duemmer.de/kalender/15-deutscher-team-race-cup/
LOCATION:Seglervereinigung Hüde e.V.\, Regattastraße 19\, Hüde\, 49448
CATEGORIES:Regatta
END:VEVENT
END:VCALENDAR