BEGIN:VCALENDAR
VERSION:2.0
PRODID:-//Seglervereinigung Hüde - ECPv6.15.20//NONSGML v1.0//EN
CALSCALE:GREGORIAN
METHOD:PUBLISH
X-ORIGINAL-URL:https://svh-duemmer.de
X-WR-CALDESC:Veranstaltungen für Seglervereinigung Hüde
REFRESH-INTERVAL;VALUE=DURATION:PT1H
X-Robots-Tag:noindex
X-PUBLISHED-TTL:PT1H
BEGIN:VTIMEZONE
TZID:Europe/Berlin
BEGIN:DAYLIGHT
TZOFFSETFROM:+0100
TZOFFSETTO:+0200
TZNAME:CEST
DTSTART:20240331T010000
END:DAYLIGHT
BEGIN:STANDARD
TZOFFSETFROM:+0200
TZOFFSETTO:+0100
TZNAME:CET
DTSTART:20241027T010000
END:STANDARD
BEGIN:DAYLIGHT
TZOFFSETFROM:+0100
TZOFFSETTO:+0200
TZNAME:CEST
DTSTART:20250330T010000
END:DAYLIGHT
BEGIN:STANDARD
TZOFFSETFROM:+0200
TZOFFSETTO:+0100
TZNAME:CET
DTSTART:20251026T010000
END:STANDARD
BEGIN:DAYLIGHT
TZOFFSETFROM:+0100
TZOFFSETTO:+0200
TZNAME:CEST
DTSTART:20260329T010000
END:DAYLIGHT
BEGIN:STANDARD
TZOFFSETFROM:+0200
TZOFFSETTO:+0100
TZNAME:CET
DTSTART:20261025T010000
END:STANDARD
END:VTIMEZONE
BEGIN:VEVENT
DTSTART;TZID=Europe/Berlin:20250705T090000
DTEND;TZID=Europe/Berlin:20250705T090000
DTSTAMP:20260424T011609
CREATED:20250313T195716Z
LAST-MODIFIED:20250313T195716Z
UID:19993-1751706000-1751706000@svh-duemmer.de
SUMMARY:Gemeinschaftsdienst
DESCRIPTION:
URL:https://svh-duemmer.de/kalender/gemeinschaftsdienst-25/
LOCATION:Seglervereinigung Hüde e.V.\, Regattastraße 19\, Hüde\, 49448
CATEGORIES:Arbeitsdienst
END:VEVENT
BEGIN:VEVENT
DTSTART;VALUE=DATE:20250719
DTEND;VALUE=DATE:20250721
DTSTAMP:20260424T011609
CREATED:20250113T160628Z
LAST-MODIFIED:20250113T160628Z
UID:19906-1752883200-1753055999@svh-duemmer.de
SUMMARY:Training Europe
DESCRIPTION:
URL:https://svh-duemmer.de/kalender/training-europe-33/
LOCATION:Seglervereinigung Hüde e.V.\, Regattastraße 19\, Hüde\, 49448
CATEGORIES:Training Europe
ORGANIZER;CN="Europe-Team Niedersachsen":MAILTO:jugendwart@svh-duemmer.de
END:VEVENT
END:VCALENDAR