BEGIN:VCALENDAR
VERSION:2.0
PRODID:-//Seglervereinigung Hüde - ECPv6.15.20//NONSGML v1.0//EN
CALSCALE:GREGORIAN
METHOD:PUBLISH
X-ORIGINAL-URL:https://svh-duemmer.de
X-WR-CALDESC:Veranstaltungen für Seglervereinigung Hüde
REFRESH-INTERVAL;VALUE=DURATION:PT1H
X-Robots-Tag:noindex
X-PUBLISHED-TTL:PT1H
BEGIN:VTIMEZONE
TZID:Europe/Berlin
BEGIN:DAYLIGHT
TZOFFSETFROM:+0100
TZOFFSETTO:+0200
TZNAME:CEST
DTSTART:20240331T010000
END:DAYLIGHT
BEGIN:STANDARD
TZOFFSETFROM:+0200
TZOFFSETTO:+0100
TZNAME:CET
DTSTART:20241027T010000
END:STANDARD
BEGIN:DAYLIGHT
TZOFFSETFROM:+0100
TZOFFSETTO:+0200
TZNAME:CEST
DTSTART:20250330T010000
END:DAYLIGHT
BEGIN:STANDARD
TZOFFSETFROM:+0200
TZOFFSETTO:+0100
TZNAME:CET
DTSTART:20251026T010000
END:STANDARD
BEGIN:DAYLIGHT
TZOFFSETFROM:+0100
TZOFFSETTO:+0200
TZNAME:CEST
DTSTART:20260329T010000
END:DAYLIGHT
BEGIN:STANDARD
TZOFFSETFROM:+0200
TZOFFSETTO:+0100
TZNAME:CET
DTSTART:20261025T010000
END:STANDARD
END:VTIMEZONE
BEGIN:VEVENT
DTSTART;VALUE=DATE:20250804
DTEND;VALUE=DATE:20250809
DTSTAMP:20260423T063119
CREATED:20250227T165000Z
LAST-MODIFIED:20250227T165000Z
UID:19976-1754265600-1754697599@svh-duemmer.de
SUMMARY:Unser kleines Opti-Camp
DESCRIPTION:
URL:https://svh-duemmer.de/kalender/unser-kleines-opti-camp/
LOCATION:Seglervereinigung Hüde e.V.\, Regattastraße 19\, Hüde\, 49448
END:VEVENT
BEGIN:VEVENT
DTSTART;VALUE=DATE:20250806
DTEND;VALUE=DATE:20250811
DTSTAMP:20260423T063119
CREATED:20250113T160047Z
LAST-MODIFIED:20250113T160047Z
UID:19896-1754438400-1754870399@svh-duemmer.de
SUMMARY:IDJoM Pirat
DESCRIPTION:
URL:https://svh-duemmer.de/kalender/idjom-pirat/
LOCATION:Seglervereinigung Hüde e.V.\, Regattastraße 19\, Hüde\, 49448
CATEGORIES:Regatta
END:VEVENT
BEGIN:VEVENT
DTSTART;TZID=Europe/Berlin:20250808T180000
DTEND;TZID=Europe/Berlin:20250808T180000
DTSTAMP:20260423T063119
CREATED:20250726T110339Z
LAST-MODIFIED:20250726T110339Z
UID:20235-1754676000-1754676000@svh-duemmer.de
SUMMARY:21. Hüder Gästeschießen
DESCRIPTION:https://svh-duemmer.de/wp-content/uploads/2025/07/2025_Gaesteschiessen.pdf
URL:https://svh-duemmer.de/kalender/21-hueder-gaesteschiessen/
LOCATION:Schützenplatz Hüde\, Schützenplatz Hüde Ludwig-Gefe-Straße\, Hüde\, 49448\, Deutschland
END:VEVENT
BEGIN:VEVENT
DTSTART;VALUE=DATE:20250816
DTEND;VALUE=DATE:20250817
DTSTAMP:20260423T063119
CREATED:20250427T161904Z
LAST-MODIFIED:20250427T161904Z
UID:20040-1755302400-1755388799@svh-duemmer.de
SUMMARY:Clubregatta
DESCRIPTION:
URL:https://svh-duemmer.de/kalender/clubregatta-8/
LOCATION:Seglervereinigung Hüde e.V.\, Regattastraße 19\, Hüde\, 49448
CATEGORIES:Regatta,Vereinsleben
END:VEVENT
BEGIN:VEVENT
DTSTART;VALUE=DATE:20250816
DTEND;VALUE=DATE:20250817
DTSTAMP:20260423T063119
CREATED:20250427T162008Z
LAST-MODIFIED:20250427T162008Z
UID:20043-1755302400-1755388799@svh-duemmer.de
SUMMARY:Sommerfest
DESCRIPTION:
URL:https://svh-duemmer.de/kalender/sommerfest-2/
LOCATION:Seglervereinigung Hüde e.V.\, Regattastraße 19\, Hüde\, 49448
CATEGORIES:Vereinsleben
END:VEVENT
BEGIN:VEVENT
DTSTART;VALUE=DATE:20250823
DTEND;VALUE=DATE:20250825
DTSTAMP:20260423T063119
CREATED:20250113T155846Z
LAST-MODIFIED:20250113T155846Z
UID:19894-1755907200-1756079999@svh-duemmer.de
SUMMARY:niedersächsische Landesjugendmeisterschaften
DESCRIPTION:
URL:https://svh-duemmer.de/kalender/niedersaechsische-landesjugendmeisterschaften/
LOCATION:Seglervereinigung Hüde e.V.\, Regattastraße 19\, Hüde\, 49448
CATEGORIES:Regatta
END:VEVENT
BEGIN:VEVENT
DTSTART;VALUE=DATE:20250823
DTEND;VALUE=DATE:20250825
DTSTAMP:20260423T063119
CREATED:20250227T164410Z
LAST-MODIFIED:20250227T164410Z
UID:19966-1755907200-1756079999@svh-duemmer.de
SUMMARY:Training Opti
DESCRIPTION:
URL:https://svh-duemmer.de/kalender/training-opti-30/
LOCATION:Seglervereinigung Hüde e.V.\, Regattastraße 19\, Hüde\, 49448
CATEGORIES:Training Opti
END:VEVENT
BEGIN:VEVENT
DTSTART;VALUE=DATE:20250830
DTEND;VALUE=DATE:20250901
DTSTAMP:20260423T063119
CREATED:20250113T160824Z
LAST-MODIFIED:20250113T160914Z
UID:19908-1756512000-1756684799@svh-duemmer.de
SUMMARY:Training Europe
DESCRIPTION:
URL:https://svh-duemmer.de/kalender/training-europe-34/
LOCATION:Seglervereinigung Hüde e.V.\, Regattastraße 19\, Hüde\, 49448
CATEGORIES:Training Europe
ORGANIZER;CN="Europe-Team Niedersachsen":MAILTO:jugendwart@svh-duemmer.de
END:VEVENT
END:VCALENDAR