BEGIN:VCALENDAR
VERSION:2.0
PRODID:-//Seglervereinigung Hüde - ECPv6.15.20//NONSGML v1.0//EN
CALSCALE:GREGORIAN
METHOD:PUBLISH
X-WR-CALNAME:Seglervereinigung Hüde
X-ORIGINAL-URL:https://svh-duemmer.de
X-WR-CALDESC:Veranstaltungen für Seglervereinigung Hüde
REFRESH-INTERVAL;VALUE=DURATION:PT1H
X-Robots-Tag:noindex
X-PUBLISHED-TTL:PT1H
BEGIN:VTIMEZONE
TZID:Europe/Berlin
BEGIN:DAYLIGHT
TZOFFSETFROM:+0100
TZOFFSETTO:+0200
TZNAME:CEST
DTSTART:20250330T010000
END:DAYLIGHT
BEGIN:STANDARD
TZOFFSETFROM:+0200
TZOFFSETTO:+0100
TZNAME:CET
DTSTART:20251026T010000
END:STANDARD
BEGIN:DAYLIGHT
TZOFFSETFROM:+0100
TZOFFSETTO:+0200
TZNAME:CEST
DTSTART:20260329T010000
END:DAYLIGHT
BEGIN:STANDARD
TZOFFSETFROM:+0200
TZOFFSETTO:+0100
TZNAME:CET
DTSTART:20261025T010000
END:STANDARD
BEGIN:DAYLIGHT
TZOFFSETFROM:+0100
TZOFFSETTO:+0200
TZNAME:CEST
DTSTART:20270328T010000
END:DAYLIGHT
BEGIN:STANDARD
TZOFFSETFROM:+0200
TZOFFSETTO:+0100
TZNAME:CET
DTSTART:20271031T010000
END:STANDARD
END:VTIMEZONE
BEGIN:VEVENT
DTSTART;TZID=Europe/Berlin:20260222T123000
DTEND;TZID=Europe/Berlin:20260222T123000
DTSTAMP:20260424T115113
CREATED:20260123T150344Z
LAST-MODIFIED:20260123T150344Z
UID:20530-1771763400-1771763400@svh-duemmer.de
SUMMARY:Grünkohlessen
DESCRIPTION:Am 22.2.2026 bietet unser Clubwirt ein Grünkohlessen in unserem Clubhaus an.\n\n \n\nBeginn 12.30 Uhr (ab 11.00 Uhr ist das Clubhaus geöffnet). Kostenbeitrag für das Essen € 19\,50\n\n \n\nEine Anmeldung ist zwingend erforderlich. Anmeldungen bitte über othello-svh@gmx.de bis zum 12.2.2026. Die Veranstaltung kann nur bei mindestens 30 Anmeldungen stattfinden.\n\n \n\nWir freuen uns auf diesen Wintertermin!\n\n \n\nVorstand der SVH
URL:https://svh-duemmer.de/kalender/gruenkohlessen-3/
LOCATION:Seglervereinigung Hüde e.V.\, Regattastraße 19\, Hüde\, 49448
CATEGORIES:Vereinsleben
END:VEVENT
BEGIN:VEVENT
DTSTART;TZID=Europe/Berlin:20260227T190000
DTEND;TZID=Europe/Berlin:20260227T190000
DTSTAMP:20260424T115113
CREATED:20260123T150906Z
LAST-MODIFIED:20260123T150906Z
UID:20538-1772218800-1772218800@svh-duemmer.de
SUMMARY:Winterstammtisch
DESCRIPTION:
URL:https://svh-duemmer.de/kalender/winterstammtisch-18/
LOCATION:Bar dü Mar\, Zum Fischerhafen 40a\, Hüde\, 49448\, Deutschland
CATEGORIES:Vereinsleben
END:VEVENT
END:VCALENDAR